BEGIN:VCALENDAR
VERSION:2.0
PRODID:-//Lieberfeld-Grundschule - ECPv6.14.2//NONSGML v1.0//EN
CALSCALE:GREGORIAN
METHOD:PUBLISH
X-ORIGINAL-URL:https://lieberfeld-grundschule.de
X-WR-CALDESC:Veranstaltungen für Lieberfeld-Grundschule
REFRESH-INTERVAL;VALUE=DURATION:PT1H
X-Robots-Tag:noindex
X-PUBLISHED-TTL:PT1H
BEGIN:VTIMEZONE
TZID:Europe/Berlin
BEGIN:DAYLIGHT
TZOFFSETFROM:+0100
TZOFFSETTO:+0200
TZNAME:CEST
DTSTART:20260329T010000
END:DAYLIGHT
BEGIN:STANDARD
TZOFFSETFROM:+0200
TZOFFSETTO:+0100
TZNAME:CET
DTSTART:20261025T010000
END:STANDARD
END:VTIMEZONE
BEGIN:VEVENT
DTSTART;TZID=Europe/Berlin:20260213T080000
DTEND;TZID=Europe/Berlin:20260213T113000
DTSTAMP:20260421T104432
CREATED:20260202T125407Z
LAST-MODIFIED:20260203T131903Z
UID:6206-1770969600-1770982200@lieberfeld-grundschule.de
SUMMARY:Allgemeine Karnevalsfeier\, Unterricht von 8.45 – 11.30 Uhr
DESCRIPTION:Karneval26-1
URL:https://lieberfeld-grundschule.de/termine/13-02-2026-freitag-allgemeine-karnevalsfeier-unterricht-von-8-45-11-30-uhr/
END:VEVENT
BEGIN:VEVENT
DTSTART;TZID=Europe/Berlin:20260216T080000
DTEND;TZID=Europe/Berlin:20260216T170000
DTSTAMP:20260421T104432
CREATED:20260202T125813Z
LAST-MODIFIED:20260202T130536Z
UID:6211-1771228800-1771261200@lieberfeld-grundschule.de
SUMMARY:Rosenmontag\, Beweglicher Ferientag (unterrichtsfrei)/ OGS geöffnet bis 15.00 Uhr/ KuBe geschlossen
DESCRIPTION:
URL:https://lieberfeld-grundschule.de/termine/rosenmontag-beweglicher-ferientag-unterrichtsfrei-ogs-geoeffnet-bis-15-00-uhr-kube-geschlossen/
END:VEVENT
BEGIN:VEVENT
DTSTART;TZID=Europe/Berlin:20260217T080000
DTEND;TZID=Europe/Berlin:20260217T163000
DTSTAMP:20260421T104432
CREATED:20260202T125923Z
LAST-MODIFIED:20260202T130009Z
UID:6213-1771315200-1771345800@lieberfeld-grundschule.de
SUMMARY:Karnevalsdienstag\, Ausgleichstag für TdoT(unterrichtsfrei)/OGS/ KuBe geöffnet
DESCRIPTION:
URL:https://lieberfeld-grundschule.de/termine/karnevalsdienstag-ausgleichstag-fuer-tdotunterrichtsfrei-ogs-kube-geoeffnet/
END:VEVENT
BEGIN:VEVENT
DTSTART;TZID=Europe/Berlin:20260219T193000
DTEND;TZID=Europe/Berlin:20260219T220000
DTSTAMP:20260421T104432
CREATED:20260202T130350Z
LAST-MODIFIED:20260202T130350Z
UID:6215-1771529400-1771538400@lieberfeld-grundschule.de
SUMMARY:Schulkonferenz\, 19.30 Uhr \, Konferenzraum
DESCRIPTION:
URL:https://lieberfeld-grundschule.de/termine/schulkonferenz-19-30-uhr-konferenzraum/
END:VEVENT
END:VCALENDAR