BEGIN:VCALENDAR
VERSION:2.0
PRODID:-//Lieberfeld-Grundschule - ECPv6.14.2//NONSGML v1.0//EN
CALSCALE:GREGORIAN
METHOD:PUBLISH
X-WR-CALNAME:Lieberfeld-Grundschule
X-ORIGINAL-URL:https://lieberfeld-grundschule.de
X-WR-CALDESC:Veranstaltungen für Lieberfeld-Grundschule
REFRESH-INTERVAL;VALUE=DURATION:PT1H
X-Robots-Tag:noindex
X-PUBLISHED-TTL:PT1H
BEGIN:VTIMEZONE
TZID:Europe/Berlin
BEGIN:DAYLIGHT
TZOFFSETFROM:+0100
TZOFFSETTO:+0200
TZNAME:CEST
DTSTART:20250330T010000
END:DAYLIGHT
BEGIN:STANDARD
TZOFFSETFROM:+0200
TZOFFSETTO:+0100
TZNAME:CET
DTSTART:20251026T010000
END:STANDARD
END:VTIMEZONE
BEGIN:VEVENT
DTSTART;TZID=Europe/Berlin:20251104T193000
DTEND;TZID=Europe/Berlin:20251104T210000
DTSTAMP:20260421T152537
CREATED:20251002T103339Z
LAST-MODIFIED:20251007T115923Z
UID:5657-1762284600-1762290000@lieberfeld-grundschule.de
SUMMARY:Fördervereinssitzung. Weitere Infos!
DESCRIPTION:Fördervereinssitzung. Die Tagesordnung können Sie hier herunterladen Tagesordnung-04.11.2025
URL:https://lieberfeld-grundschule.de/termine/foerdervereinssitzung/
END:VEVENT
BEGIN:VEVENT
DTSTART;TZID=Europe/Berlin:20251111T170000
DTEND;TZID=Europe/Berlin:20251111T190000
DTSTAMP:20260421T152537
CREATED:20251027T123242Z
LAST-MODIFIED:20251029T112303Z
UID:5759-1762880400-1762887600@lieberfeld-grundschule.de
SUMMARY:Sankt Martin
DESCRIPTION:Am Dienstag\, 11.11.2025 starten um 17.00 Uhr auf dem Schulhof mit gemeinsamen Singen und anschließenden Martinszug (um die Schule). Nach Rückkehr zur Schule werden dort die Martinsbrezel ausgegeben. \nVom 18.10. bis 04.11.2025 findet der Wertmarkenverkauf (2.50 Euro /Brezel) im Sekretariat statt. \n 
URL:https://lieberfeld-grundschule.de/termine/sankt-martin/
END:VEVENT
BEGIN:VEVENT
DTSTART;TZID=Europe/Berlin:20251117T000000
DTEND;TZID=Europe/Berlin:20251121T235959
DTSTAMP:20260421T152537
CREATED:20251112T113334Z
LAST-MODIFIED:20251112T113334Z
UID:5884-1763337600-1763769599@lieberfeld-grundschule.de
SUMMARY:Elternsprechtagwoche vom 17.11.-21.11.2025 für Jahrgang 1\, 2b und 2c und Jahrgang 3
DESCRIPTION:Liebe Eltern\, die Termine werden über des Eltern-IServmodul vergeben. Bei Schwierigkeiten melden Sie sich bitte bei der Klassenlehrerin Ihres Kindes. \nAm Dienstag\, den 18.11.2025\, Kernsprechtag\, ist für diese Klassen Unterricht bis 11.30 Uhr.
URL:https://lieberfeld-grundschule.de/termine/elternsprechtagwoche-vom-17-11-21-11-2025-fuer-jahrgang-1-2b-und-2c-und-jahrgang-3/
END:VEVENT
BEGIN:VEVENT
DTSTART;TZID=Europe/Berlin:20251125T080000
DTEND;TZID=Europe/Berlin:20251125T160000
DTSTAMP:20260421T152537
CREATED:20251027T134738Z
LAST-MODIFIED:20251027T134738Z
UID:5772-1764057600-1764086400@lieberfeld-grundschule.de
SUMMARY:Pädagogischer Tag (Unterrichtsfrei\, OGS und Kube geöffnet)
DESCRIPTION:
URL:https://lieberfeld-grundschule.de/termine/paedagogischer-tag-unterrichtsfrei-ogs-und-kube-geoeffnet/
END:VEVENT
END:VCALENDAR