BEGIN:VCALENDAR
VERSION:2.0
PRODID:-//Lieberfeld-Grundschule - ECPv6.14.2//NONSGML v1.0//EN
CALSCALE:GREGORIAN
METHOD:PUBLISH
X-WR-CALNAME:Lieberfeld-Grundschule
X-ORIGINAL-URL:https://lieberfeld-grundschule.de
X-WR-CALDESC:Veranstaltungen für Lieberfeld-Grundschule
REFRESH-INTERVAL;VALUE=DURATION:PT1H
X-Robots-Tag:noindex
X-PUBLISHED-TTL:PT1H
BEGIN:VTIMEZONE
TZID:Europe/Berlin
BEGIN:DAYLIGHT
TZOFFSETFROM:+0100
TZOFFSETTO:+0200
TZNAME:CEST
DTSTART:20250330T010000
END:DAYLIGHT
BEGIN:STANDARD
TZOFFSETFROM:+0200
TZOFFSETTO:+0100
TZNAME:CET
DTSTART:20251026T010000
END:STANDARD
END:VTIMEZONE
BEGIN:VEVENT
DTSTART;TZID=Europe/Berlin:20250910T193000
DTEND;TZID=Europe/Berlin:20250910T210000
DTSTAMP:20260421T190531
CREATED:20250901T112318Z
LAST-MODIFIED:20250901T113427Z
UID:5267-1757532600-1757538000@lieberfeld-grundschule.de
SUMMARY:Einladung zur Aufführung des Theaterprogramms
DESCRIPTION:Sie können gerne mehr Info auf diesen Link finden. \nhttps://www.tpwerkstatt.de/programme/mein-k%C3%B6rper-geh%C3%B6rt-mir
URL:https://lieberfeld-grundschule.de/termine/einladung-zur-auffuehrung-des-theaterprogramms/
END:VEVENT
BEGIN:VEVENT
DTSTART;TZID=Europe/Berlin:20250927T080000
DTEND;TZID=Europe/Berlin:20250927T113000
DTSTAMP:20260421T190531
CREATED:20250720T170034Z
LAST-MODIFIED:20250901T112149Z
UID:4538-1758960000-1758972600@lieberfeld-grundschule.de
SUMMARY:Tag der offenen Tür  (Für die Gäste ab 10.00 Uhr)
DESCRIPTION:  \n 
URL:https://lieberfeld-grundschule.de/termine/tag-der-offenen-tuer/
END:VEVENT
END:VCALENDAR