BEGIN:VCALENDAR
VERSION:2.0
PRODID:-//Lieberfeld-Grundschule - ECPv6.14.2//NONSGML v1.0//EN
CALSCALE:GREGORIAN
METHOD:PUBLISH
X-ORIGINAL-URL:https://lieberfeld-grundschule.de
X-WR-CALDESC:Veranstaltungen für Lieberfeld-Grundschule
REFRESH-INTERVAL;VALUE=DURATION:PT1H
X-Robots-Tag:noindex
X-PUBLISHED-TTL:PT1H
BEGIN:VTIMEZONE
TZID:Europe/Berlin
BEGIN:DAYLIGHT
TZOFFSETFROM:+0100
TZOFFSETTO:+0200
TZNAME:CEST
DTSTART:20260329T010000
END:DAYLIGHT
BEGIN:STANDARD
TZOFFSETFROM:+0200
TZOFFSETTO:+0100
TZNAME:CET
DTSTART:20261025T010000
END:STANDARD
END:VTIMEZONE
BEGIN:VEVENT
DTSTART;TZID=Europe/Berlin:20260429T000000
DTEND;TZID=Europe/Berlin:20260430T000000
DTSTAMP:20260421T134129
CREATED:20260420T075119Z
LAST-MODIFIED:20260420T075634Z
UID:6411-1777420800-1777507200@lieberfeld-grundschule.de
SUMMARY:Schulsparren am 29. und 30. April 2026 zwischen 8:00 und 12:00 Uhr
DESCRIPTION:
URL:https://lieberfeld-grundschule.de/termine/schulsparren/
END:VEVENT
END:VCALENDAR