BEGIN:VCALENDAR
VERSION:2.0
PRODID:-//Lieberfeld-Grundschule - ECPv6.14.2//NONSGML v1.0//EN
CALSCALE:GREGORIAN
METHOD:PUBLISH
X-ORIGINAL-URL:https://lieberfeld-grundschule.de
X-WR-CALDESC:Veranstaltungen für Lieberfeld-Grundschule
REFRESH-INTERVAL;VALUE=DURATION:PT1H
X-Robots-Tag:noindex
X-PUBLISHED-TTL:PT1H
BEGIN:VTIMEZONE
TZID:Europe/Berlin
BEGIN:DAYLIGHT
TZOFFSETFROM:+0100
TZOFFSETTO:+0200
TZNAME:CEST
DTSTART:20250330T010000
END:DAYLIGHT
BEGIN:STANDARD
TZOFFSETFROM:+0200
TZOFFSETTO:+0100
TZNAME:CET
DTSTART:20251026T010000
END:STANDARD
END:VTIMEZONE
BEGIN:VEVENT
DTSTART;TZID=Europe/Berlin:20251006T193000
DTEND;TZID=Europe/Berlin:20251006T220000
DTSTAMP:20260421T190856
CREATED:20250918T113143Z
LAST-MODIFIED:20250918T113532Z
UID:5580-1759779000-1759788000@lieberfeld-grundschule.de
SUMMARY:Schulkonferenz
DESCRIPTION:Schulkonferenz findet am 06.10.2025 um 19.30 Uhr statt.
URL:https://lieberfeld-grundschule.de/termine/schulkonferenz/
LOCATION:Lieberfeld Grundschule Konferenzraum\, Rispenstraße 40-42\, Dortmund\, 44265\, Germany
END:VEVENT
END:VCALENDAR